BEGIN:VCALENDAR
VERSION:2.0
PRODID:-//Old Soul Blues - ECPv6.15.11//NONSGML v1.0//EN
CALSCALE:GREGORIAN
METHOD:PUBLISH
X-WR-CALNAME:Old Soul Blues
X-ORIGINAL-URL:https://oldsoulblues.com
X-WR-CALDESC:Events for Old Soul Blues
REFRESH-INTERVAL;VALUE=DURATION:PT1H
X-Robots-Tag:noindex
X-PUBLISHED-TTL:PT1H
BEGIN:VTIMEZONE
TZID:UTC
BEGIN:STANDARD
TZOFFSETFROM:+0000
TZOFFSETTO:+0000
TZNAME:UTC
DTSTART:20210101T000000
END:STANDARD
END:VTIMEZONE
BEGIN:VTIMEZONE
TZID:Europe/London
BEGIN:DAYLIGHT
TZOFFSETFROM:+0000
TZOFFSETTO:+0100
TZNAME:BST
DTSTART:20210328T010000
END:DAYLIGHT
BEGIN:STANDARD
TZOFFSETFROM:+0100
TZOFFSETTO:+0000
TZNAME:GMT
DTSTART:20211031T010000
END:STANDARD
BEGIN:DAYLIGHT
TZOFFSETFROM:+0000
TZOFFSETTO:+0100
TZNAME:BST
DTSTART:20220327T010000
END:DAYLIGHT
BEGIN:STANDARD
TZOFFSETFROM:+0100
TZOFFSETTO:+0000
TZNAME:GMT
DTSTART:20221030T010000
END:STANDARD
BEGIN:DAYLIGHT
TZOFFSETFROM:+0000
TZOFFSETTO:+0100
TZNAME:BST
DTSTART:20230326T010000
END:DAYLIGHT
BEGIN:STANDARD
TZOFFSETFROM:+0100
TZOFFSETTO:+0000
TZNAME:GMT
DTSTART:20231029T010000
END:STANDARD
END:VTIMEZONE
BEGIN:VTIMEZONE
TZID:America/New_York
BEGIN:DAYLIGHT
TZOFFSETFROM:-0500
TZOFFSETTO:-0400
TZNAME:EDT
DTSTART:20200308T070000
END:DAYLIGHT
BEGIN:STANDARD
TZOFFSETFROM:-0400
TZOFFSETTO:-0500
TZNAME:EST
DTSTART:20201101T060000
END:STANDARD
BEGIN:DAYLIGHT
TZOFFSETFROM:-0500
TZOFFSETTO:-0400
TZNAME:EDT
DTSTART:20210314T070000
END:DAYLIGHT
BEGIN:STANDARD
TZOFFSETFROM:-0400
TZOFFSETTO:-0500
TZNAME:EST
DTSTART:20211107T060000
END:STANDARD
BEGIN:DAYLIGHT
TZOFFSETFROM:-0500
TZOFFSETTO:-0400
TZNAME:EDT
DTSTART:20220313T070000
END:DAYLIGHT
BEGIN:STANDARD
TZOFFSETFROM:-0400
TZOFFSETTO:-0500
TZNAME:EST
DTSTART:20221106T060000
END:STANDARD
END:VTIMEZONE
BEGIN:VTIMEZONE
TZID:America/Chicago
BEGIN:DAYLIGHT
TZOFFSETFROM:-0600
TZOFFSETTO:-0500
TZNAME:CDT
DTSTART:20200308T080000
END:DAYLIGHT
BEGIN:STANDARD
TZOFFSETFROM:-0500
TZOFFSETTO:-0600
TZNAME:CST
DTSTART:20201101T070000
END:STANDARD
BEGIN:DAYLIGHT
TZOFFSETFROM:-0600
TZOFFSETTO:-0500
TZNAME:CDT
DTSTART:20210314T080000
END:DAYLIGHT
BEGIN:STANDARD
TZOFFSETFROM:-0500
TZOFFSETTO:-0600
TZNAME:CST
DTSTART:20211107T070000
END:STANDARD
BEGIN:DAYLIGHT
TZOFFSETFROM:-0600
TZOFFSETTO:-0500
TZNAME:CDT
DTSTART:20220313T080000
END:DAYLIGHT
BEGIN:STANDARD
TZOFFSETFROM:-0500
TZOFFSETTO:-0600
TZNAME:CST
DTSTART:20221106T070000
END:STANDARD
END:VTIMEZONE
BEGIN:VEVENT
DTSTART;TZID=UTC:20220813T180000
DTEND;TZID=UTC:20220813T210000
DTSTAMP:20260423T081821
CREATED:20220111T175505Z
LAST-MODIFIED:20220111T181207Z
UID:433-1660413600-1660424400@oldsoulblues.com
SUMMARY:Connor and the Boogie Bones at St Georges Country Store August 2022
DESCRIPTION:Come and see Connor and the Boogie Bones at St Georges Country Store\, 1 Delaware St.\, St. Georges\, DE 19733\nGig times 6pm-9pm: Reservations recommended. \nGig dates: 3/4\, 4/2\, 6/18\, 7/9\, 8/13\, 9/17\, 10/22\, 12/10
URL:https://oldsoulblues.com/event/connor-and-the-boogie-bones-at-st-georges-country-store-august-2022/
LOCATION:St Georges Country Store\, 1 Delaware Street\, St Georges\,\, Delaware\, DE\, 19733\, United States
CATEGORIES:My Gigs
ATTACH;FMTTYPE=image/jpeg:https://oldsoulblues.com/wp-content/uploads/2022/01/connor-at-stgeorges-scaled.jpg
END:VEVENT
BEGIN:VEVENT
DTSTART;TZID=Europe/London:20220813T110000
DTEND;TZID=Europe/London:20220813T133000
DTSTAMP:20260423T081821
CREATED:20220111T183827Z
LAST-MODIFIED:20220111T183827Z
UID:462-1660388400-1660397400@oldsoulblues.com
SUMMARY:Connor and Garrett Acoustic Blues Duo at Paul’s Kitchen August 2022
DESCRIPTION:Come and see Connor and Garrett Acoustic Blues Duo. \n11am-1:30pm: Reservations recommended. \nGig Dates: 4/2\, 5/7\, 6/11\, 7/2\, 8/13
URL:https://oldsoulblues.com/event/connor-and-garrett-acoustic-blues-duo-at-pauls-kitchen-august-2022/
LOCATION:Paul’s Kitchen\, 32882 Cedar Grove Road\, Lewes\, DE\, DE 19958\, United States
CATEGORIES:My Gigs
ATTACH;FMTTYPE=image/jpeg:https://oldsoulblues.com/wp-content/uploads/2021/10/connor-singing.jpg
END:VEVENT
BEGIN:VEVENT
DTSTART;TZID=UTC:20220709T180000
DTEND;TZID=UTC:20220709T210000
DTSTAMP:20260423T081821
CREATED:20220111T174722Z
LAST-MODIFIED:20220111T181109Z
UID:428-1657389600-1657400400@oldsoulblues.com
SUMMARY:Connor and the Boogie Bones at St Georges Country Store July 2022
DESCRIPTION:Come and see Connor and the Boogie Bones \nGig times 6pm-9pm: Reservations recommended. \nGig dates: 3/4\, 4/2\, 6/18\, 7/9\, 8/13\, 9/17\, 10/22\, 12/10
URL:https://oldsoulblues.com/event/428/
LOCATION:St Georges Country Store\, 1 Delaware Street\, St Georges\,\, Delaware\, DE\, 19733\, United States
CATEGORIES:My Gigs
ATTACH;FMTTYPE=image/jpeg:https://oldsoulblues.com/wp-content/uploads/2022/01/about-connor-scaled.jpg
END:VEVENT
BEGIN:VEVENT
DTSTART;TZID=UTC:20220702T110000
DTEND;TZID=UTC:20220702T133000
DTSTAMP:20260423T081821
CREATED:20220111T183519Z
LAST-MODIFIED:20220111T183556Z
UID:460-1656759600-1656768600@oldsoulblues.com
SUMMARY:Connor and Garrett Acoustic Blues Duo at Paul’s Kitchen July 2022
DESCRIPTION:Come and see Connor and Garrett Acoustic Blues Duo. \n11am-1:30pm: Reservations recommended. \nGig Dates: 4/2\, 5/7\, 6/11\, 7/2\, 8/13
URL:https://oldsoulblues.com/event/connor-and-garrett-acoustic-blues-duo-at-pauls-kitchen-july-2022/
LOCATION:Paul’s Kitchen\, 32882 Cedar Grove Road\, Lewes\, DE\, DE 19958\, United States
CATEGORIES:My Gigs
ATTACH;FMTTYPE=image/jpeg:https://oldsoulblues.com/wp-content/uploads/2021/10/connor-singing.jpg
END:VEVENT
BEGIN:VEVENT
DTSTART;TZID=UTC:20220626T200000
DTEND;TZID=UTC:20220626T235900
DTSTAMP:20260423T081821
CREATED:20220328T212259Z
LAST-MODIFIED:20220328T212259Z
UID:488-1656273600-1656287940@oldsoulblues.com
SUMMARY:Connor and Old Soul Blues Band at JV's Restaurant 8pm-12pm on June 26th
DESCRIPTION:Come and see Connor and Old Soul Blues Band at JV’s Restaurant \n8pm-12pm on June 26th Reservations recommended. \nOld Soul Blues Band featuring Connor Filicko on blues harp and vocals\, Matt Kelley on guitar and vocals\, Andy Hamburger on drums\, and Wolf Crescenze on bass.\n6666 Arlington Blvd\, Falls Church\, VA 22042
URL:https://oldsoulblues.com/event/connor-and-old-soul-blues-band-at-jvs-restaurant-8pm-12pm-on-june-26th/
LOCATION:JV’s Restaurant\, 6666 Arlington Blvd\, Falls Church\, VA\, VA 22042\, United States
CATEGORIES:My Gigs
ATTACH;FMTTYPE=image/jpeg:https://oldsoulblues.com/wp-content/uploads/2021/12/DSC_0498-scaled.jpeg
END:VEVENT
BEGIN:VEVENT
DTSTART;TZID=UTC:20220618T180000
DTEND;TZID=UTC:20220618T210000
DTSTAMP:20260423T081821
CREATED:20220111T174416Z
LAST-MODIFIED:20220111T181026Z
UID:425-1655575200-1655586000@oldsoulblues.com
SUMMARY:Connor and the Boogie Bones at St Georges Country Store
DESCRIPTION:Come and see Connor and the Boogie Bones at St Georges Country Store\, 1 Delaware St.\, St. Georges\, DE 19733\nGig times 6pm-9pm: Reservations recommended. \nGig dates: 3/4\, 4/2\, 6/18\, 7/9\, 8/13\, 9/17\, 10/22\, 12/10
URL:https://oldsoulblues.com/event/connor-and-the-boogie-bones-at-st-georges-country-store-3/
LOCATION:St Georges Country Store\, 1 Delaware Street\, St Georges\,\, Delaware\, DE\, 19733\, United States
CATEGORIES:My Gigs
ATTACH;FMTTYPE=image/jpeg:https://oldsoulblues.com/wp-content/uploads/2022/01/connor-at-stgeorges-scaled.jpg
END:VEVENT
BEGIN:VEVENT
DTSTART;TZID=Europe/London:20220611T110000
DTEND;TZID=Europe/London:20220611T133000
DTSTAMP:20260423T081821
CREATED:20220111T183313Z
LAST-MODIFIED:20220111T183325Z
UID:458-1654945200-1654954200@oldsoulblues.com
SUMMARY:Connor and Garrett Acoustic Blues Duo at Paul’s Kitchen June 2022
DESCRIPTION:Come and see Connor and Garrett Acoustic Blues Duo. \n11am-1:30pm: Reservations recommended. \nGig Dates: 4/2\, 5/7\, 6/11\, 7/2\, 8/13
URL:https://oldsoulblues.com/event/connor-and-garrett-acoustic-blues-duo-at-pauls-kitchen-june-2022/
LOCATION:Paul’s Kitchen\, 32882 Cedar Grove Road\, Lewes\, DE\, DE 19958\, United States
CATEGORIES:My Gigs
ATTACH;FMTTYPE=image/jpeg:https://oldsoulblues.com/wp-content/uploads/2021/10/connor-singing.jpg
END:VEVENT
BEGIN:VEVENT
DTSTART;TZID=UTC:20220522T160000
DTEND;TZID=UTC:20220522T190000
DTSTAMP:20260423T081821
CREATED:20220508T091858Z
LAST-MODIFIED:20220508T092548Z
UID:496-1653235200-1653246000@oldsoulblues.com
SUMMARY:Connor performing with Elwood Bishop\, Jake Banzack and Kieth Brooks at Big Chill Surf May 22nd
DESCRIPTION:Come and see Connor performing with Elwood Bishop\, Jake Banzack and Kieth Brooks from 4-7pm at Big Chill Surf Cantina 19406 Coastal Hwy\, Rehoboth Beach\, DE 19971 May 22nd 2022\nReservations Recommended.
URL:https://oldsoulblues.com/event/connor-performing-with-elwood-bishop-jake-banzack-and-kieth-brooks-at-big-chill-surf-may-22nd/
LOCATION:Big Chill Surf CATINA\, 19406 Coastal Hwy\, Rehoboth Beach\, Delaware\, DE 19971\, United States
CATEGORIES:My Gigs
ATTACH;FMTTYPE=image/jpeg:https://oldsoulblues.com/wp-content/uploads/2022/05/DSC_0040-scaled.jpg
END:VEVENT
BEGIN:VEVENT
DTSTART;TZID=UTC:20220518T190000
DTEND;TZID=UTC:20220518T220000
DTSTAMP:20260423T081821
CREATED:20220328T205344Z
LAST-MODIFIED:20220328T205344Z
UID:483-1652900400-1652911200@oldsoulblues.com
SUMMARY:Old Soul Blues Band at Lahinch Tavern and Grill
DESCRIPTION:Come and see the Old Soul Blues Band at Lahinch Tavern and Grill 7pm-10pm on May 18th \nOld Soul Blues Band featuring Connor Filicko on blues harp and vocals\, Matt Kelley on guitar and vocals\, Scott Rabino on drums\, and Wolf Crescenze on bass. \nReservations recommended.
URL:https://oldsoulblues.com/event/old-soul-blues-band-at-lahinch-tavern-and-grill-2/
LOCATION:Lahinch Tavern and Grill\, 7747 Tuckerman\, Ln\, Potomac\, MD 20854\, United States
CATEGORIES:My Gigs
ATTACH;FMTTYPE=image/jpeg:https://oldsoulblues.com/wp-content/uploads/2021/12/DSC_0498-scaled.jpeg
END:VEVENT
BEGIN:VEVENT
DTSTART;TZID=UTC:20220507T110000
DTEND;TZID=UTC:20220507T133000
DTSTAMP:20260423T081821
CREATED:20220111T182640Z
LAST-MODIFIED:20220328T204023Z
UID:455-1651921200-1651930200@oldsoulblues.com
SUMMARY:Connor and Gary Cogdell Acoustic Blues Duo at Paul’s Kitchen May 2022
DESCRIPTION:Come and see Connor and Gary Cogdell Acoustic Blues Duo. \n11am-1:30pm: Reservations recommended. \nGig Dates: 4/2\, 5/7\, 6/11\, 7/2\, 8/13
URL:https://oldsoulblues.com/event/connor-and-garrett-acoustic-blues-duo-at-pauls-kitchen-may-2022/
CATEGORIES:My Gigs
ATTACH;FMTTYPE=image/jpeg:https://oldsoulblues.com/wp-content/uploads/2021/10/connor-singing.jpg
END:VEVENT
BEGIN:VEVENT
DTSTART;TZID=UTC:20220402T180000
DTEND;TZID=UTC:20220402T210000
DTSTAMP:20260423T081821
CREATED:20220111T173904Z
LAST-MODIFIED:20220328T212901Z
UID:423-1648922400-1648933200@oldsoulblues.com
SUMMARY:Connor and Boogie Bones feat Garry Cogdell  at St Georges Country Store 6-9pm April 2nd
DESCRIPTION:Come and see Connor and Boogie Bones feat Garry Cogdell at St Georges Country Store\, 1 Delaware St.\, St. Georges\, DE 19733\nGig times 6pm-9pm: Reservations recommended. \nGig dates: 3/4\, 4/2\, 6/18\, 7/9\, 8/13\, 9/17\, 10/22\, 12/10
URL:https://oldsoulblues.com/event/connor-and-the-boogie-bones-at-st-georges-country-store-2/
LOCATION:St Georges Country Store\, 1 Delaware Street\, St Georges\,\, Delaware\, DE\, 19733\, United States
CATEGORIES:My Gigs
ATTACH;FMTTYPE=image/jpeg:https://oldsoulblues.com/wp-content/uploads/2022/01/about-connor-scaled.jpg
END:VEVENT
BEGIN:VEVENT
DTSTART;TZID=UTC:20220304T180000
DTEND;TZID=UTC:20220304T210000
DTSTAMP:20260423T081821
CREATED:20220111T173225Z
LAST-MODIFIED:20220111T180902Z
UID:421-1646416800-1646427600@oldsoulblues.com
SUMMARY:Connor and the Boogie Bones at St Georges Country Store March 2022
DESCRIPTION:Come and see Connor and the Boogie Bones\nGig times 6pm-9pm: \nReservations recommended. \nGig dates: 3/4\, 4/2\, 6/18\, 7/9\, 8/13\, 9/17\, 10/22\, 12/10
URL:https://oldsoulblues.com/event/connor-and-the-boogie-bones-at-st-georges-country-store/
LOCATION:St Georges Country Store\, 1 Delaware Street\, St Georges\,\, Delaware\, DE\, 19733\, United States
CATEGORIES:My Gigs
ATTACH;FMTTYPE=image/jpeg:https://oldsoulblues.com/wp-content/uploads/2022/01/connor-at-stgeorges-scaled.jpg
END:VEVENT
BEGIN:VEVENT
DTSTART;TZID=UTC:20220129T200000
DTEND;TZID=UTC:20220129T230000
DTSTAMP:20260423T081821
CREATED:20220119T001318Z
LAST-MODIFIED:20220119T001318Z
UID:464-1643486400-1643497200@oldsoulblues.com
SUMMARY:Old Soul Blues Band at Lahinch Tavern and Grill
DESCRIPTION:Come and see Old Soul Blues Band featuring Connor Filicko on blues harp and vocals\, Matt Kelley on guitar and vocals\, Scott Rabino on drums\, and Wolf Crescenze on bass.
URL:https://oldsoulblues.com/event/old-soul-blues-band-at-lahinch-tavern-and-grill/
LOCATION:Lahinch Tavern and Grill\, 7747 Tuckerman\, Ln\, Potomac\, MD 20854\, United States
CATEGORIES:My Gigs
ATTACH;FMTTYPE=image/jpeg:https://oldsoulblues.com/wp-content/uploads/2021/12/DSC_0498-scaled.jpeg
END:VEVENT
BEGIN:VEVENT
DTSTART;TZID=UTC:20220108T110000
DTEND;TZID=UTC:20220108T133000
DTSTAMP:20260423T081821
CREATED:20211202T131013Z
LAST-MODIFIED:20220101T025529Z
UID:402-1641639600-1641648600@oldsoulblues.com
SUMMARY:Connor and Garrett Acoustic Duo LIVE at Paul's Kitchen
DESCRIPTION:Come and see Connor and Garrett live at Paul’s Kitchen.
URL:https://oldsoulblues.com/event/connor-and-garrett-acoustic-duo-live-at-pauls-kitchen/
LOCATION:Paul’s Kitchen\, 32882 Cedar Grove Road\, Lewes\, DE\, DE 19958\, United States
CATEGORIES:My Gigs
ATTACH;FMTTYPE=image/jpeg:https://oldsoulblues.com/wp-content/uploads/2021/10/connor-singing.jpg
END:VEVENT
BEGIN:VEVENT
DTSTART;TZID=America/New_York:20211210T180000
DTEND;TZID=America/New_York:20211210T210000
DTSTAMP:20260423T081821
CREATED:20211108T171110Z
LAST-MODIFIED:20211110T012306Z
UID:352-1639159200-1639170000@oldsoulblues.com
SUMMARY:The Future Of Blues At St Georges Country Store
DESCRIPTION:The Future Of Blues\nCome and see “The Future Of Blues” at the St. Georges Country Store \nTickets $20 \nCall: +13028368202 to make a reservation.
URL:https://oldsoulblues.com/event/the-future-of-blues-at-st-georges-country-store/
LOCATION:St Georges Country Store\, 1 Delaware Street\, St Georges\,\, Delaware\, DE\, 19733\, United States
CATEGORIES:My Gigs
ATTACH;FMTTYPE=image/jpeg:https://oldsoulblues.com/wp-content/uploads/2021/10/connor-on-harp.jpg
END:VEVENT
BEGIN:VEVENT
DTSTART;TZID=America/Chicago:20210910T180000
DTEND;TZID=America/Chicago:20210910T210000
DTSTAMP:20260423T081821
CREATED:20210927T231154Z
LAST-MODIFIED:20211017T230450Z
UID:38-1631296800-1631307600@oldsoulblues.com
SUMMARY:Connor At St Georges Country Store
DESCRIPTION:A fictional gig event this is some fill text. \n 
URL:https://oldsoulblues.com/event/connor-at-memphis/
LOCATION:St Georges Country Store\, 1 Delaware Street\, St Georges\,\, Delaware\, DE\, 19733\, United States
CATEGORIES:My Gigs
ATTACH;FMTTYPE=image/jpeg:https://oldsoulblues.com/wp-content/uploads/2021/09/20.jpg
END:VEVENT
END:VCALENDAR