BEGIN:VCALENDAR
VERSION:2.0
PRODID:-//Old Soul Blues - ECPv6.15.11//NONSGML v1.0//EN
CALSCALE:GREGORIAN
METHOD:PUBLISH
X-ORIGINAL-URL:https://oldsoulblues.com
X-WR-CALDESC:Events for Old Soul Blues
REFRESH-INTERVAL;VALUE=DURATION:PT1H
X-Robots-Tag:noindex
X-PUBLISHED-TTL:PT1H
BEGIN:VTIMEZONE
TZID:UTC
BEGIN:STANDARD
TZOFFSETFROM:+0000
TZOFFSETTO:+0000
TZNAME:UTC
DTSTART:20210101T000000
END:STANDARD
END:VTIMEZONE
BEGIN:VTIMEZONE
TZID:America/New_York
BEGIN:DAYLIGHT
TZOFFSETFROM:-0500
TZOFFSETTO:-0400
TZNAME:EDT
DTSTART:20200308T070000
END:DAYLIGHT
BEGIN:STANDARD
TZOFFSETFROM:-0400
TZOFFSETTO:-0500
TZNAME:EST
DTSTART:20201101T060000
END:STANDARD
BEGIN:DAYLIGHT
TZOFFSETFROM:-0500
TZOFFSETTO:-0400
TZNAME:EDT
DTSTART:20210314T070000
END:DAYLIGHT
BEGIN:STANDARD
TZOFFSETFROM:-0400
TZOFFSETTO:-0500
TZNAME:EST
DTSTART:20211107T060000
END:STANDARD
BEGIN:DAYLIGHT
TZOFFSETFROM:-0500
TZOFFSETTO:-0400
TZNAME:EDT
DTSTART:20220313T070000
END:DAYLIGHT
BEGIN:STANDARD
TZOFFSETFROM:-0400
TZOFFSETTO:-0500
TZNAME:EST
DTSTART:20221106T060000
END:STANDARD
END:VTIMEZONE
BEGIN:VTIMEZONE
TZID:America/Chicago
BEGIN:DAYLIGHT
TZOFFSETFROM:-0600
TZOFFSETTO:-0500
TZNAME:CDT
DTSTART:20200308T080000
END:DAYLIGHT
BEGIN:STANDARD
TZOFFSETFROM:-0500
TZOFFSETTO:-0600
TZNAME:CST
DTSTART:20201101T070000
END:STANDARD
BEGIN:DAYLIGHT
TZOFFSETFROM:-0600
TZOFFSETTO:-0500
TZNAME:CDT
DTSTART:20210314T080000
END:DAYLIGHT
BEGIN:STANDARD
TZOFFSETFROM:-0500
TZOFFSETTO:-0600
TZNAME:CST
DTSTART:20211107T070000
END:STANDARD
BEGIN:DAYLIGHT
TZOFFSETFROM:-0600
TZOFFSETTO:-0500
TZNAME:CDT
DTSTART:20220313T080000
END:DAYLIGHT
BEGIN:STANDARD
TZOFFSETFROM:-0500
TZOFFSETTO:-0600
TZNAME:CST
DTSTART:20221106T070000
END:STANDARD
END:VTIMEZONE
BEGIN:VEVENT
DTSTART;TZID=UTC:20220129T200000
DTEND;TZID=UTC:20220129T230000
DTSTAMP:20260423T100725
CREATED:20220119T001318Z
LAST-MODIFIED:20220119T001318Z
UID:464-1643486400-1643497200@oldsoulblues.com
SUMMARY:Old Soul Blues Band at Lahinch Tavern and Grill
DESCRIPTION:Come and see Old Soul Blues Band featuring Connor Filicko on blues harp and vocals\, Matt Kelley on guitar and vocals\, Scott Rabino on drums\, and Wolf Crescenze on bass.
URL:https://oldsoulblues.com/event/old-soul-blues-band-at-lahinch-tavern-and-grill/
LOCATION:Lahinch Tavern and Grill\, 7747 Tuckerman\, Ln\, Potomac\, MD 20854\, United States
CATEGORIES:My Gigs
ATTACH;FMTTYPE=image/jpeg:https://oldsoulblues.com/wp-content/uploads/2021/12/DSC_0498-scaled.jpeg
END:VEVENT
BEGIN:VEVENT
DTSTART;TZID=UTC:20220108T110000
DTEND;TZID=UTC:20220108T133000
DTSTAMP:20260423T100725
CREATED:20211202T131013Z
LAST-MODIFIED:20220101T025529Z
UID:402-1641639600-1641648600@oldsoulblues.com
SUMMARY:Connor and Garrett Acoustic Duo LIVE at Paul's Kitchen
DESCRIPTION:Come and see Connor and Garrett live at Paul’s Kitchen.
URL:https://oldsoulblues.com/event/connor-and-garrett-acoustic-duo-live-at-pauls-kitchen/
LOCATION:Paul’s Kitchen\, 32882 Cedar Grove Road\, Lewes\, DE\, DE 19958\, United States
CATEGORIES:My Gigs
ATTACH;FMTTYPE=image/jpeg:https://oldsoulblues.com/wp-content/uploads/2021/10/connor-singing.jpg
END:VEVENT
BEGIN:VEVENT
DTSTART;TZID=America/New_York:20211210T180000
DTEND;TZID=America/New_York:20211210T210000
DTSTAMP:20260423T100725
CREATED:20211108T171110Z
LAST-MODIFIED:20211110T012306Z
UID:352-1639159200-1639170000@oldsoulblues.com
SUMMARY:The Future Of Blues At St Georges Country Store
DESCRIPTION:The Future Of Blues\nCome and see “The Future Of Blues” at the St. Georges Country Store \nTickets $20 \nCall: +13028368202 to make a reservation.
URL:https://oldsoulblues.com/event/the-future-of-blues-at-st-georges-country-store/
LOCATION:St Georges Country Store\, 1 Delaware Street\, St Georges\,\, Delaware\, DE\, 19733\, United States
CATEGORIES:My Gigs
ATTACH;FMTTYPE=image/jpeg:https://oldsoulblues.com/wp-content/uploads/2021/10/connor-on-harp.jpg
END:VEVENT
BEGIN:VEVENT
DTSTART;TZID=America/Chicago:20210910T180000
DTEND;TZID=America/Chicago:20210910T210000
DTSTAMP:20260423T100725
CREATED:20210927T231154Z
LAST-MODIFIED:20211017T230450Z
UID:38-1631296800-1631307600@oldsoulblues.com
SUMMARY:Connor At St Georges Country Store
DESCRIPTION:A fictional gig event this is some fill text. \n 
URL:https://oldsoulblues.com/event/connor-at-memphis/
LOCATION:St Georges Country Store\, 1 Delaware Street\, St Georges\,\, Delaware\, DE\, 19733\, United States
CATEGORIES:My Gigs
ATTACH;FMTTYPE=image/jpeg:https://oldsoulblues.com/wp-content/uploads/2021/09/20.jpg
END:VEVENT
END:VCALENDAR